Package: tidyCoverage Version: 1.4.0 Command: /home/biocbuild/bbs-3.21-bioc/R/bin/R CMD INSTALL tidyCoverage StartedAt: 2025-04-27 15:25:21 -0400 (Sun, 27 Apr 2025) EndedAt: 2025-04-27 15:25:55 -0400 (Sun, 27 Apr 2025) EllapsedTime: 34.3 seconds RetCode: 0 Status: OK