Package: tidyCoverage Version: 1.4.0 Command: /home/biocbuild/bbs-3.21-bioc/R/bin/R CMD check --install=check:tidyCoverage.install-out.txt --library=/home/biocbuild/bbs-3.21-bioc/R/site-library --timings tidyCoverage_1.4.0.tar.gz StartedAt: 2025-04-28 04:03:20 -0400 (Mon, 28 Apr 2025) EndedAt: 2025-04-28 04:10:43 -0400 (Mon, 28 Apr 2025) EllapsedTime: 442.6 seconds RetCode: 0 Status: OK CheckDir: tidyCoverage.Rcheck Warnings: 0