Package: tidyCoverage Version: 1.4.0 Command: /Library/Frameworks/R.framework/Resources/bin/R CMD INSTALL tidyCoverage StartedAt: 2025-04-21 15:26:17 -0400 (Mon, 21 Apr 2025) EndedAt: 2025-04-21 15:27:04 -0400 (Mon, 21 Apr 2025) EllapsedTime: 47.1 seconds RetCode: 0 Status: OK