Package: tidyCoverage Version: 1.4.0 Command: /Library/Frameworks/R.framework/Resources/bin/R CMD check --install=check:tidyCoverage.install-out.txt --library=/Library/Frameworks/R.framework/Resources/library --no-vignettes --timings tidyCoverage_1.4.0.tar.gz StartedAt: 2025-04-22 00:04:10 -0400 (Tue, 22 Apr 2025) EndedAt: 2025-04-22 00:09:56 -0400 (Tue, 22 Apr 2025) EllapsedTime: 346.1 seconds RetCode: 0 Status: OK CheckDir: tidyCoverage.Rcheck Warnings: 0