Package: tidyCoverage Version: 1.4.0 Command: rm -rf tidyCoverage.buildbin-libdir && mkdir tidyCoverage.buildbin-libdir && /Users/biocbuild/BBS/utils/build-universal.sh tidyCoverage_1.4.0.tar.gz /Library/Frameworks/R.framework/Resources/bin/R tidyCoverage.buildbin-libdir StartedAt: 2025-04-22 01:13:14 -0400 (Tue, 22 Apr 2025) EndedAt: 2025-04-22 01:14:04 -0400 (Tue, 22 Apr 2025) EllapsedTime: 49.9 seconds RetCode: 0 Status: OK PackageFile: tidyCoverage_1.4.0.tgz PackageFileSize: 4.209 MiB