Package: tidyCoverage Version: 1.4.0 Command: /home/biocbuild/R/R/bin/R CMD INSTALL tidyCoverage StartedAt: 2025-04-21 20:40:38 -0000 (Mon, 21 Apr 2025) EndedAt: 2025-04-21 20:41:28 -0000 (Mon, 21 Apr 2025) EllapsedTime: 49.5 seconds RetCode: 0 Status: OK