Package: tidyCoverage Version: 1.4.0 Command: /home/biocbuild/R/R/bin/R CMD check --install=check:tidyCoverage.install-out.txt --library=/home/biocbuild/R/R/site-library --no-vignettes --timings tidyCoverage_1.4.0.tar.gz StartedAt: 2025-04-19 14:44:37 -0000 (Sat, 19 Apr 2025) EndedAt: 2025-04-19 14:51:38 -0000 (Sat, 19 Apr 2025) EllapsedTime: 420.4 seconds RetCode: 0 Status: OK CheckDir: tidyCoverage.Rcheck Warnings: 0