Package: tidyCoverage Version: 1.4.0 Command: /home/biocbuild/R/R/bin/R CMD build --keep-empty-dirs --no-resave-data tidyCoverage StartedAt: 2025-04-22 05:10:14 -0000 (Tue, 22 Apr 2025) EndedAt: 2025-04-22 05:50:14 -0000 (Tue, 22 Apr 2025) EllapsedTime: 2400.0 seconds RetCode: None Status: TIMEOUT PackageFile: None PackageFileSize: NA