Package: tidyCoverage Version: 1.4.0 Command: /Library/Frameworks/R.framework/Resources/bin/R CMD INSTALL tidyCoverage StartedAt: 2025-04-21 15:16:02 -0400 (Mon, 21 Apr 2025) EndedAt: 2025-04-21 15:16:16 -0400 (Mon, 21 Apr 2025) EllapsedTime: 14.1 seconds RetCode: 0 Status: OK