Package: tidyCoverage Version: 1.4.0 Command: /Library/Frameworks/R.framework/Resources/bin/R CMD check --install=check:tidyCoverage.install-out.txt --library=/Library/Frameworks/R.framework/Resources/library --no-vignettes --timings tidyCoverage_1.4.0.tar.gz StartedAt: 2025-04-21 22:05:21 -0400 (Mon, 21 Apr 2025) EndedAt: 2025-04-21 22:07:29 -0400 (Mon, 21 Apr 2025) EllapsedTime: 127.5 seconds RetCode: 0 Status: OK CheckDir: tidyCoverage.Rcheck Warnings: 0