Package: tidyCoverage Version: 1.4.0 Command: /Library/Frameworks/R.framework/Resources/bin/R CMD build --keep-empty-dirs --no-resave-data tidyCoverage StartedAt: 2025-04-21 17:52:08 -0400 (Mon, 21 Apr 2025) EndedAt: 2025-04-21 17:53:31 -0400 (Mon, 21 Apr 2025) EllapsedTime: 83.0 seconds RetCode: 0 Status: OK PackageFile: tidyCoverage_1.4.0.tar.gz PackageFileSize: 3.896 MiB