Package: tidyCoverage Version: 1.4.0 Command: rm -rf tidyCoverage.buildbin-libdir && mkdir tidyCoverage.buildbin-libdir && /Users/biocbuild/BBS/utils/build-universal.sh tidyCoverage_1.4.0.tar.gz /Library/Frameworks/R.framework/Resources/bin/R tidyCoverage.buildbin-libdir StartedAt: 2025-04-21 22:55:09 -0400 (Mon, 21 Apr 2025) EndedAt: 2025-04-21 22:55:25 -0400 (Mon, 21 Apr 2025) EllapsedTime: 16.3 seconds RetCode: 0 Status: OK PackageFile: tidyCoverage_1.4.0.tgz PackageFileSize: 4.21 MiB