Package: tidyCoverage Version: 1.4.0 Maintainer: Jacques Serizay MaintainerEmail: jacquesserizay at gmail.com git_url: https://git.bioconductor.org/packages/tidyCoverage git_branch: RELEASE_3_21 git_last_commit: c8037ce git_last_commit_date: 2025-04-15 13:27:07 -0400 (Tue, 15 Apr 2025)