Package: spkTools Version: 1.64.0 Command: /Library/Frameworks/R.framework/Resources/bin/R CMD INSTALL spkTools StartedAt: 2025-04-21 15:13:33 -0400 (Mon, 21 Apr 2025) EndedAt: 2025-04-21 15:13:46 -0400 (Mon, 21 Apr 2025) EllapsedTime: 12.2 seconds RetCode: 0 Status: OK