Package: spkTools Version: 1.64.0 Command: /Library/Frameworks/R.framework/Resources/bin/R CMD check --install=check:spkTools.install-out.txt --library=/Library/Frameworks/R.framework/Resources/library --no-vignettes --timings spkTools_1.64.0.tar.gz StartedAt: 2025-04-21 23:48:45 -0400 (Mon, 21 Apr 2025) EndedAt: 2025-04-21 23:50:26 -0400 (Mon, 21 Apr 2025) EllapsedTime: 100.7 seconds RetCode: 0 Status: OK CheckDir: spkTools.Rcheck Warnings: 0