Package: spkTools Version: 1.64.0 Command: rm -rf spkTools.buildbin-libdir && mkdir spkTools.buildbin-libdir && /Users/biocbuild/BBS/utils/build-universal.sh spkTools_1.64.0.tar.gz /Library/Frameworks/R.framework/Resources/bin/R spkTools.buildbin-libdir StartedAt: 2025-04-22 01:11:25 -0400 (Tue, 22 Apr 2025) EndedAt: 2025-04-22 01:11:33 -0400 (Tue, 22 Apr 2025) EllapsedTime: 8.4 seconds RetCode: 0 Status: OK PackageFile: spkTools_1.64.0.tgz PackageFileSize: 839.3 KiB