Package: spkTools Version: 1.64.0 Maintainer: Matthew N McCall MaintainerEmail: mccallm at gmail.com git_url: https://git.bioconductor.org/packages/spkTools git_branch: RELEASE_3_21 git_last_commit: 62162ce git_last_commit_date: 2025-04-15 09:44:02 -0400 (Tue, 15 Apr 2025)