Package: sparseMatrixStats Version: 1.20.0 Maintainer: Constantin Ahlmann-Eltze MaintainerEmail: artjom31415 at googlemail.com git_url: https://git.bioconductor.org/packages/sparseMatrixStats git_branch: RELEASE_3_21 git_last_commit: b3b8af1 git_last_commit_date: 2025-04-15 11:56:38 -0400 (Tue, 15 Apr 2025)