Package: segmentSeq Version: 2.42.0 Command: /home/biocbuild/bbs-3.21-bioc/R/bin/R CMD INSTALL segmentSeq StartedAt: 2025-04-27 15:50:03 -0400 (Sun, 27 Apr 2025) EndedAt: 2025-04-27 15:50:39 -0400 (Sun, 27 Apr 2025) EllapsedTime: 36.5 seconds RetCode: 0 Status: OK