Package: segmentSeq Version: 2.42.0 Command: /home/biocbuild/bbs-3.21-bioc/R/bin/R CMD check --install=check:segmentSeq.install-out.txt --library=/home/biocbuild/bbs-3.21-bioc/R/site-library --timings segmentSeq_2.42.0.tar.gz StartedAt: 2025-04-28 03:11:39 -0400 (Mon, 28 Apr 2025) EndedAt: 2025-04-28 03:19:39 -0400 (Mon, 28 Apr 2025) EllapsedTime: 479.7 seconds RetCode: 0 Status: OK CheckDir: segmentSeq.Rcheck Warnings: 0