Package: segmentSeq Version: 2.42.0 Command: /home/biocbuild/bbs-3.21-bioc/R/bin/R CMD build --keep-empty-dirs --no-resave-data segmentSeq StartedAt: 2025-04-27 19:10:41 -0400 (Sun, 27 Apr 2025) EndedAt: 2025-04-27 19:13:09 -0400 (Sun, 27 Apr 2025) EllapsedTime: 148.2 seconds RetCode: 0 Status: OK PackageFile: segmentSeq_2.42.0.tar.gz PackageFileSize: 3.044 MiB