Package: segmentSeq Version: 2.42.0 Command: /Library/Frameworks/R.framework/Resources/bin/R CMD INSTALL segmentSeq StartedAt: 2025-04-24 17:18:45 -0400 (Thu, 24 Apr 2025) EndedAt: 2025-04-24 17:20:07 -0400 (Thu, 24 Apr 2025) EllapsedTime: 81.9 seconds RetCode: 0 Status: OK