Package: segmentSeq Version: 2.42.0 Command: /Library/Frameworks/R.framework/Resources/bin/R CMD build --keep-empty-dirs --no-resave-data segmentSeq StartedAt: 2025-04-24 23:09:23 -0400 (Thu, 24 Apr 2025) EndedAt: 2025-04-24 23:14:41 -0400 (Thu, 24 Apr 2025) EllapsedTime: 318.0 seconds RetCode: 0 Status: OK PackageFile: segmentSeq_2.42.0.tar.gz PackageFileSize: 3.073 MiB