Package: segmentSeq Version: 2.42.0 Command: /Library/Frameworks/R.framework/Resources/bin/R CMD INSTALL segmentSeq StartedAt: 2025-04-21 15:40:00 -0400 (Mon, 21 Apr 2025) EndedAt: 2025-04-21 15:40:51 -0400 (Mon, 21 Apr 2025) EllapsedTime: 51.1 seconds RetCode: 0 Status: OK