Package: segmentSeq Version: 2.42.0 Command: /Library/Frameworks/R.framework/Resources/bin/R CMD check --install=check:segmentSeq.install-out.txt --library=/Library/Frameworks/R.framework/Resources/library --no-vignettes --timings segmentSeq_2.42.0.tar.gz StartedAt: 2025-04-21 23:28:51 -0400 (Mon, 21 Apr 2025) EndedAt: 2025-04-21 23:35:11 -0400 (Mon, 21 Apr 2025) EllapsedTime: 379.6 seconds RetCode: 0 Status: OK CheckDir: segmentSeq.Rcheck Warnings: 0