Package: segmentSeq Version: 2.42.0 Command: rm -rf segmentSeq.buildbin-libdir && mkdir segmentSeq.buildbin-libdir && /Users/biocbuild/BBS/utils/build-universal.sh segmentSeq_2.42.0.tar.gz /Library/Frameworks/R.framework/Resources/bin/R segmentSeq.buildbin-libdir StartedAt: 2025-04-22 01:08:26 -0400 (Tue, 22 Apr 2025) EndedAt: 2025-04-22 01:09:21 -0400 (Tue, 22 Apr 2025) EllapsedTime: 55.3 seconds RetCode: 0 Status: OK PackageFile: segmentSeq_2.42.0.tgz PackageFileSize: 3.817 MiB