Package: segmentSeq Version: 2.42.0 Command: /home/biocbuild/R/R/bin/R CMD INSTALL segmentSeq StartedAt: 2025-04-21 21:07:40 -0000 (Mon, 21 Apr 2025) EndedAt: 2025-04-21 21:08:33 -0000 (Mon, 21 Apr 2025) EllapsedTime: 53.1 seconds RetCode: 0 Status: OK