Package: segmentSeq Version: 2.42.0 Command: /home/biocbuild/R/R/bin/R CMD check --install=check:segmentSeq.install-out.txt --library=/home/biocbuild/R/R/site-library --no-vignettes --timings segmentSeq_2.42.0.tar.gz StartedAt: 2025-04-22 13:43:12 -0000 (Tue, 22 Apr 2025) EndedAt: 2025-04-22 13:51:08 -0000 (Tue, 22 Apr 2025) EllapsedTime: 475.7 seconds RetCode: 0 Status: OK CheckDir: segmentSeq.Rcheck Warnings: 0