Package: segmentSeq Version: 2.42.0 Command: /home/biocbuild/R/R/bin/R CMD build --keep-empty-dirs --no-resave-data segmentSeq StartedAt: 2025-04-22 04:26:47 -0000 (Tue, 22 Apr 2025) EndedAt: 2025-04-22 04:30:33 -0000 (Tue, 22 Apr 2025) EllapsedTime: 226.1 seconds RetCode: 0 Status: OK PackageFile: segmentSeq_2.42.0.tar.gz PackageFileSize: 3.08 MiB