Package: segmentSeq Version: 2.42.0 Command: /Library/Frameworks/R.framework/Resources/bin/R CMD INSTALL segmentSeq StartedAt: 2025-04-21 15:26:08 -0400 (Mon, 21 Apr 2025) EndedAt: 2025-04-21 15:26:24 -0400 (Mon, 21 Apr 2025) EllapsedTime: 15.6 seconds RetCode: 0 Status: OK