Package: segmentSeq Version: 2.42.0 Command: /Library/Frameworks/R.framework/Resources/bin/R CMD build --keep-empty-dirs --no-resave-data segmentSeq StartedAt: 2025-04-21 17:38:01 -0400 (Mon, 21 Apr 2025) EndedAt: 2025-04-21 17:39:08 -0400 (Mon, 21 Apr 2025) EllapsedTime: 66.8 seconds RetCode: 0 Status: OK PackageFile: segmentSeq_2.42.0.tar.gz PackageFileSize: 3.075 MiB