Package: segmentSeq Version: 2.42.0 Command: /Library/Frameworks/R.framework/Resources/bin/R CMD INSTALL segmentSeq StartedAt: 2025-04-24 19:14:28 -0400 (Thu, 24 Apr 2025) EndedAt: 2025-04-24 19:15:11 -0400 (Thu, 24 Apr 2025) EllapsedTime: 42.9 seconds RetCode: 0 Status: OK