Package: segmentSeq Version: 2.42.0 Command: /Library/Frameworks/R.framework/Resources/bin/R CMD build --keep-empty-dirs --no-resave-data segmentSeq StartedAt: 2025-04-25 09:54:13 -0400 (Fri, 25 Apr 2025) EndedAt: 2025-04-25 09:56:22 -0400 (Fri, 25 Apr 2025) EllapsedTime: 128.7 seconds RetCode: 0 Status: OK PackageFile: segmentSeq_2.42.0.tar.gz PackageFileSize: 3.075 MiB