Package: segmentSeq Version: 2.42.0 Command: rm -rf segmentSeq.buildbin-libdir && mkdir segmentSeq.buildbin-libdir && /Users/biocbuild/BBS/utils/build-universal.sh segmentSeq_2.42.0.tar.gz /Library/Frameworks/R.framework/Resources/bin/R segmentSeq.buildbin-libdir StartedAt: 2025-04-26 19:12:05 -0400 (Sat, 26 Apr 2025) EndedAt: 2025-04-26 19:12:52 -0400 (Sat, 26 Apr 2025) EllapsedTime: 47.0 seconds RetCode: 1 Status: ERROR PackageFile: None PackageFileSize: NA