Package: segmentSeq Version: 2.42.0 Maintainer: Samuel Granjeaud MaintainerEmail: samuel.granjeaud at inserm.fr git_url: https://git.bioconductor.org/packages/segmentSeq git_branch: RELEASE_3_21 git_last_commit: b06bb70 git_last_commit_date: 2025-04-15 09:46:52 -0400 (Tue, 15 Apr 2025)