Package: sampleClassifier Version: 1.32.0 Maintainer: Khadija El Amrani MaintainerEmail: a.khadija at gmx.de git_url: https://git.bioconductor.org/packages/sampleClassifier git_branch: RELEASE_3_21 git_last_commit: bfa7ffd git_last_commit_date: 2025-04-15 12:17:31 -0400 (Tue, 15 Apr 2025)