Package: pepXMLTab Version: 1.42.0 Maintainer: Xiaojing Wang MaintainerEmail: xiaojing.wang at vanderbilt.edu git_url: https://git.bioconductor.org/packages/pepXMLTab git_branch: RELEASE_3_21 git_last_commit: 3712347 git_last_commit_date: 2025-04-15 10:36:34 -0400 (Tue, 15 Apr 2025)