Package: omicplotR Version: 1.28.0 Command: /home/biocbuild/bbs-3.21-bioc/R/bin/R CMD INSTALL omicplotR StartedAt: 2025-04-23 15:38:00 -0400 (Wed, 23 Apr 2025) EndedAt: 2025-04-23 15:38:22 -0400 (Wed, 23 Apr 2025) EllapsedTime: 22.7 seconds RetCode: 0 Status: OK