Package: omicplotR Version: 1.28.0 Command: /home/biocbuild/bbs-3.21-bioc/R/bin/R CMD build --keep-empty-dirs --no-resave-data omicplotR StartedAt: 2025-04-23 18:30:43 -0400 (Wed, 23 Apr 2025) EndedAt: 2025-04-23 18:31:09 -0400 (Wed, 23 Apr 2025) EllapsedTime: 26.0 seconds RetCode: 0 Status: OK PackageFile: omicplotR_1.28.0.tar.gz PackageFileSize: 1.64 MiB