Package: omicplotR Version: 1.28.0 Command: /Library/Frameworks/R.framework/Resources/bin/R CMD INSTALL omicplotR StartedAt: 2025-04-21 15:18:51 -0400 (Mon, 21 Apr 2025) EndedAt: 2025-04-21 15:19:01 -0400 (Mon, 21 Apr 2025) EllapsedTime: 10.0 seconds RetCode: 0 Status: OK