Package: omicplotR Version: 1.28.0 Command: /Library/Frameworks/R.framework/Resources/bin/R CMD build --keep-empty-dirs --no-resave-data omicplotR StartedAt: 2025-04-21 17:10:10 -0400 (Mon, 21 Apr 2025) EndedAt: 2025-04-21 17:10:22 -0400 (Mon, 21 Apr 2025) EllapsedTime: 12.1 seconds RetCode: 0 Status: OK PackageFile: omicplotR_1.28.0.tar.gz PackageFileSize: 1.641 MiB