Package: omicplotR Version: 1.28.0 Command: rm -rf omicplotR.buildbin-libdir && mkdir omicplotR.buildbin-libdir && /Users/biocbuild/BBS/utils/build-universal.sh omicplotR_1.28.0.tar.gz /Library/Frameworks/R.framework/Resources/bin/R omicplotR.buildbin-libdir StartedAt: 2025-04-21 22:45:13 -0400 (Mon, 21 Apr 2025) EndedAt: 2025-04-21 22:45:24 -0400 (Mon, 21 Apr 2025) EllapsedTime: 11.2 seconds RetCode: 0 Status: OK PackageFile: omicplotR_1.28.0.tgz PackageFileSize: 1.183 MiB