Package: nipalsMCIA Version: 1.6.0 Command: /home/biocbuild/bbs-3.21-bioc/R/bin/R CMD INSTALL nipalsMCIA StartedAt: 2025-04-27 15:19:05 -0400 (Sun, 27 Apr 2025) EndedAt: 2025-04-27 15:19:31 -0400 (Sun, 27 Apr 2025) EllapsedTime: 26.4 seconds RetCode: 0 Status: OK