Package: nipalsMCIA Version: 1.6.0 Command: /home/biocbuild/bbs-3.21-bioc/R/bin/R CMD check --install=check:nipalsMCIA.install-out.txt --library=/home/biocbuild/bbs-3.21-bioc/R/site-library --timings nipalsMCIA_1.6.0.tar.gz StartedAt: 2025-04-28 01:25:52 -0400 (Mon, 28 Apr 2025) EndedAt: 2025-04-28 01:33:17 -0400 (Mon, 28 Apr 2025) EllapsedTime: 445.7 seconds RetCode: 0 Status: OK CheckDir: nipalsMCIA.Rcheck Warnings: 0