Package: nipalsMCIA Version: 1.6.0 Command: /home/biocbuild/bbs-3.21-bioc/R/bin/R CMD build --keep-empty-dirs --no-resave-data nipalsMCIA StartedAt: 2025-04-27 18:22:13 -0400 (Sun, 27 Apr 2025) EndedAt: 2025-04-27 18:25:43 -0400 (Sun, 27 Apr 2025) EllapsedTime: 210.4 seconds RetCode: 0 Status: OK PackageFile: nipalsMCIA_1.6.0.tar.gz PackageFileSize: 3.142 MiB