Package: nipalsMCIA Version: 1.6.0 Command: /home/biocbuild/R/R/bin/R CMD check --install=check:nipalsMCIA.install-out.txt --library=/home/biocbuild/R/R/site-library --no-vignettes --timings nipalsMCIA_1.6.0.tar.gz StartedAt: 2025-04-22 11:48:25 -0000 (Tue, 22 Apr 2025) EndedAt: 2025-04-22 11:56:57 -0000 (Tue, 22 Apr 2025) EllapsedTime: 511.7 seconds RetCode: 0 Status: OK CheckDir: nipalsMCIA.Rcheck Warnings: 0