Package: nipalsMCIA Version: 1.6.0 Command: /home/biocbuild/R/R/bin/R CMD build --keep-empty-dirs --no-resave-data nipalsMCIA StartedAt: 2025-04-22 02:53:44 -0000 (Tue, 22 Apr 2025) EndedAt: 2025-04-22 02:59:12 -0000 (Tue, 22 Apr 2025) EllapsedTime: 328.6 seconds RetCode: 0 Status: OK PackageFile: nipalsMCIA_1.6.0.tar.gz PackageFileSize: 3.327 MiB