Package: nipalsMCIA Version: 1.6.0 Command: /Library/Frameworks/R.framework/Resources/bin/R CMD INSTALL nipalsMCIA StartedAt: 2025-04-21 15:13:04 -0400 (Mon, 21 Apr 2025) EndedAt: 2025-04-21 15:13:15 -0400 (Mon, 21 Apr 2025) EllapsedTime: 10.7 seconds RetCode: 0 Status: OK