Package: nipalsMCIA Version: 1.6.0 Command: /Library/Frameworks/R.framework/Resources/bin/R CMD build --keep-empty-dirs --no-resave-data nipalsMCIA StartedAt: 2025-04-21 17:08:38 -0400 (Mon, 21 Apr 2025) EndedAt: 2025-04-21 17:10:07 -0400 (Mon, 21 Apr 2025) EllapsedTime: 89.1 seconds RetCode: 0 Status: OK PackageFile: nipalsMCIA_1.6.0.tar.gz PackageFileSize: 3.785 MiB