Package: nipalsMCIA Version: 1.6.0 Maintainer: Maximilian Mattessich MaintainerEmail: maximilian.mattessich at northwestern.edu git_url: https://git.bioconductor.org/packages/nipalsMCIA git_branch: RELEASE_3_21 git_last_commit: 24050e8 git_last_commit_date: 2025-04-15 13:21:21 -0400 (Tue, 15 Apr 2025)